BEGIN:VCALENDAR
VERSION:2.0
PRODID:Brahma Kumaris Event Management
METHOD:REQUEST
BEGIN:VEVENT
UID:ad8119bd-7566-41bf-9650-43ec860ec592
DTSTAMP:20260421T113510Z
SUMMARY:MIKKELI: Ohjattu meditaatio
DESCRIPTION:Kaikkein merkityksellisin matka\, jonka voit tehdä\, on matka s
 isäänpäin. Se on matka totuuteen siitä\, kuka olet olemukseltasi. Raja joo
 ga -meditaatio on lempeä ja käytännöllinen menetelmä mielen ja sydämen rau
 hoittamiseen sekä uudistumiseen. Se auttaa kääntämään huomion sisäänpäin j
 a kokemaan yhteyden omaan alkuperäiseen\, henkiseen olemukseen.
DTSTART:20260507T161500
TZOFFSETFROM: 0000
TZOFFSETTO: 0000
TZNAME:UTC
DURATION:PT0M
END:VEVENT
END:VCALENDAR
