BEGIN:VCALENDAR
VERSION:2.0
PRODID:Brahma Kumaris Event Management
METHOD:REQUEST
BEGIN:VEVENT
UID:f9b0c182-6f74-4f16-b384-d3ac1e37e5ed
DTSTAMP:20260421T113711Z
SUMMARY:MIKKELI: Ohjattu meditaatio
DESCRIPTION:Kaikkein merkityksellisin matka\, jonka voit tehdä\, on matka s
 isäänpäin. Se on matka totuuteen siitä\, kuka olet olemukseltasi. Raja joo
 ga -meditaatio on lempeä ja käytännöllinen menetelmä mielen ja sydämen rau
 hoittamiseen sekä uudistumiseen. Se auttaa kääntämään huomion sisäänpäin j
 a kokemaan yhteyden omaan alkuperäiseen\, henkiseen olemukseen.
DTSTART:20260514T161500
TZOFFSETFROM: 0000
TZOFFSETTO: 0000
TZNAME:UTC
DURATION:PT0M
END:VEVENT
END:VCALENDAR
