BEGIN:VCALENDAR
VERSION:2.0
PRODID:Brahma Kumaris Event Management
METHOD:REQUEST
BEGIN:VEVENT
UID:f795b6e7-b0fa-4b1d-bced-58a34cb6bd7f
DTSTAMP:20260421T164820Z
SUMMARY:Meditacion Mundial por la Paz
DESCRIPTION:Cada Tercer Domingo de mes a las 18:15 h en C/ Alba de Tormes 4
 \n\n
DTSTART:20260517T181500
TZOFFSETFROM: 0000
TZOFFSETTO: 0000
TZNAME:Europe/Madrid
DURATION:PT0M
END:VEVENT
END:VCALENDAR
