BEGIN:VCALENDAR
VERSION:2.0
PRODID:Brahma Kumaris Event Management
METHOD:REQUEST
BEGIN:VEVENT
UID:4d0e799c-9a4c-47a9-8b5a-2181e2299aa4
DTSTAMP:20260421T164821Z
SUMMARY:Meditacion Mundial por la Paz
DESCRIPTION:Cada Tercer Domingo de mes a las 18:15 h en C/ Alba de Tormes 4
 \n\n
DTSTART:20260621T181500
TZOFFSETFROM: 0000
TZOFFSETTO: 0000
TZNAME:Europe/Madrid
DURATION:PT0M
END:VEVENT
END:VCALENDAR
