BEGIN:VCALENDAR
VERSION:2.0
PRODID:Brahma Kumaris Event Management
METHOD:REQUEST
BEGIN:VEVENT
UID:8b0b637d-b3e6-47fa-bd00-80c0e9ad5e11
DTSTAMP:20260421T164821Z
SUMMARY:Meditacion Mundial por la Paz
DESCRIPTION:Cada Tercer Domingo de mes a las 18:15 h en C/ Alba de Tormes 4
 \n\n
DTSTART:20260719T181500
TZOFFSETFROM: 0000
TZOFFSETTO: 0000
TZNAME:Europe/Madrid
DURATION:PT0M
END:VEVENT
END:VCALENDAR
