BEGIN:VCALENDAR
VERSION:2.0
PRODID:Brahma Kumaris Event Management
METHOD:REQUEST
BEGIN:VEVENT
UID:8778aae9-39fe-4b69-9f32-41154bad4d12
DTSTAMP:20260421T164723Z
SUMMARY:Meditacion Mundial por la Paz
DESCRIPTION:Cada Tercer Domingo de mes a las 18:15 h en C/ Alba de Tormes 4
 \n\n
DTSTART:20260920T181500
TZOFFSETFROM: 0000
TZOFFSETTO: 0000
TZNAME:Europe/Madrid
DURATION:PT0M
END:VEVENT
END:VCALENDAR
