BEGIN:VCALENDAR
VERSION:2.0
PRODID:Brahma Kumaris Event Management
METHOD:REQUEST
BEGIN:VEVENT
UID:82df4b07-e086-49d3-a246-453004afc346
DTSTAMP:20260421T164806Z
SUMMARY:Meditacion Mundial por la Paz
DESCRIPTION:Cada Tercer Domingo de mes a las 18:15 h en C/ Alba de Tormes 4
 \n\n
DTSTART:20261018T181500
TZOFFSETFROM: 0000
TZOFFSETTO: 0000
TZNAME:Europe/Madrid
DURATION:PT0M
END:VEVENT
END:VCALENDAR
