BEGIN:VCALENDAR
VERSION:2.0
PRODID:Brahma Kumaris Event Management
METHOD:REQUEST
BEGIN:VEVENT
UID:723c8130-e53e-426a-b468-9ba85a2a4843
DTSTAMP:20260421T100521Z
SUMMARY:Overcoming Anger 
DESCRIPTION:Anger means lost focus\; anger means rage against circumstances
 \; anger means loss of control: anger is not a positive experience. \n\n\n
DTSTART:20260513T173000
TZOFFSETFROM: 0000
TZOFFSETTO: 0000
TZNAME:Europe/London
DURATION:PT-86400000M
END:VEVENT
END:VCALENDAR
