BEGIN:VCALENDAR
VERSION:2.0
PRODID:Brahma Kumaris Event Management
METHOD:REQUEST
BEGIN:VEVENT
UID:1a61f6fa-2287-4d6e-9a1d-428b2256c1cc
DTSTAMP:20260425T224255Z
SUMMARY:Pràctica de la Meditació Raja Ioga (LLEIDA)
DESCRIPTION:"Pràctica de la Meditació Raja Ioga"
DTSTART:20260427T190000
TZOFFSETFROM: 0000
TZOFFSETTO: 0000
TZNAME:Europe/Madrid
DURATION:PT0M
END:VEVENT
END:VCALENDAR
