BEGIN:VCALENDAR
VERSION:2.0
PRODID:Brahma Kumaris Event Management
METHOD:REQUEST
BEGIN:VEVENT
UID:ebf6d51e-c94e-4d72-8c76-41b119844580
DTSTAMP:20260423T230047Z
SUMMARY:CHARLA Y MEDITACIÓN PRESENCIAL
DESCRIPTION:<div>\n	<p>\n		&nbsp\;</p>\n	<p>\n		<strong>Se ruega llegar 10 
 minutos antes</strong>&nbsp\;para ayudar a crear<br />\n		una atm&oacute\;
 sfera de concentraci&oacute\;n y bienestar.</p>\n	<p>\n		<strong>Todas las 
 actividades son gratuitas.</strong><br />\n		Donativos:<strong><span style
 ="color: rgb(0\, 0\, 255)\;">&nbsp\;<a href="https://valencia.aembk.net/">
 https://valencia.aembk.net/</a></span></strong></p>\n	<p>\n		<strong>Lugar
 :&nbsp\;Plaza Organista Cabo\, 6-bjo. Iqda. Valencia</strong><br />\n		(Ju
 nto al jard&iacute\;n de Aora)<br />\n		Metro: lineas 3 y 5. Parada Ayora<
 br />\n		Buses EMT: 31\, 32\, 81 y 92<br />\n		<strong>Brahma Kumaris Vale
 ncia</strong></p>\n</div>\n<p>\n<!-- br--></p>\n
DTSTART:20260430T183000
TZOFFSETFROM: 0000
TZOFFSETTO: 0000
TZNAME:Europe/Madrid
DURATION:PT0M
END:VEVENT
END:VCALENDAR
