BEGIN:VCALENDAR
VERSION:2.0
PRODID:Brahma Kumaris Event Management
METHOD:REQUEST
BEGIN:VEVENT
UID:dcce2361-6aac-4282-a594-edb727f4f065
DTSTAMP:20260423T230138Z
SUMMARY:MEDITACIÓN MUNDIAL POR LA PAZ
DESCRIPTION:Con pensamientos positivos y elevados para crear entre todos un 
 mundo mejor.
DTSTART:20260517T183000
TZOFFSETFROM: 0000
TZOFFSETTO: 0000
TZNAME:Europe/Madrid
DURATION:PT0M
END:VEVENT
END:VCALENDAR
