BEGIN:VCALENDAR
VERSION:2.0
PRODID:Brahma Kumaris Event Management
METHOD:REQUEST
BEGIN:VEVENT
UID:b77e3b76-094b-4eac-9024-88e9a52b5c21
DTSTAMP:20260423T225403Z
SUMMARY:CHARLA Y MEDITACIÓN PRESENCIAL
DESCRIPTION:<p>\n	&nbsp\;</p>\n<p style="margin: 0px 0px 10px\; font-family
 : Arial\; font-size: 15px\; line-height: 20px\; color: rgb(51\, 51\, 51)\; 
 background-color: rgb(246\, 247\, 240)\;">\n	<strong style="font-weight: b
 old\;"><span style="background-color:#ffffff\;">Se ruega llegar 10 minutos 
 antes</span></strong><span style="background-color:#ffffff\;">&nbsp\;para 
 ayudar a crear</span><br />\n	<span style="background-color:#ffffff\;">una 
 atm&oacute\;sfera de concentraci&oacute\;n y bienestar.</span></p>\n<p sty
 le="margin: 0px 0px 10px\; font-family: Arial\; font-size: 15px\; line-hei
 ght: 20px\; color: rgb(51\, 51\, 51)\; background-color: rgb(246\, 247\, 2
 40)\;">\n	<strong style="font-weight: bold\;"><span style="background-colo
 r:#ffffff\;">Todas las actividades son gratuitas.</span></strong></p>\n<p 
 style="margin: 0px 0px 10px\; font-family: Arial\; font-size: 15px\; line-
 height: 20px\; color: rgb(51\, 51\, 51)\; background-color: rgb(246\, 247\
 , 240)\;">\n	<span style="background-color:#ffffff\;">Donativos:</span><st
 rong style="font-weight: bold\;"><span style="color: rgb(0\, 0\, 255)\;"><
 span style="background-color:#ffffff\;">&nbsp\;</span><a href="https://val
 encia.aembk.net/" style="color: rgb(35\, 132\, 232)\; text-decoration-line
 : none\; font-weight: normal\;"><span style="background-color:#ffffff\;">h
 ttps://valencia.aembk.net/</span></a></span></strong></p>\n<p style="margi
 n: 0px 0px 10px\; font-family: Arial\; font-size: 15px\; line-height: 20px
 \; color: rgb(51\, 51\, 51)\; background-color: rgb(246\, 247\, 240)\;">\n	
 <strong style="font-weight: bold\;"><span style="background-color:#ffffff\
 ;">Lugar:&nbsp\;Plaza Organista Cabo\, 6-bjo. Iqda. Valencia</span></stron
 g><br />\n	<span style="background-color:#ffffff\;">(Junto al jard&iacute\
 ;n de Aora)</span><br />\n	<span style="background-color:#ffffff\;">Metro: 
 lineas 3 y 5. Parada Ayora</span><br />\n	<span style="background-color:#f
 fffff\;">Buses EMT: 31</span><strong style="font-weight: bold\;">Se ruega 
 llegar 10 minutos antes</strong>&nbsp\;para ayudar a crear</p>\n<p style="
 margin: 0px 0px 10px\; font-family: Arial\; font-size: 15px\; line-height: 
 20px\; color: rgb(51\, 51\, 51)\; background-color: rgb(246\, 247\, 240)\;
 ">\n	una atm&oacute\;sfera de concentraci&oacute\;n y bienestar.</p>\n<p s
 tyle="margin: 0px 0px 10px\; font-family: Arial\; font-size: 15px\; line-h
 eight: 20px\; color: rgb(51\, 51\, 51)\; background-color: rgb(246\, 247\, 
 240)\;">\n	<strong style="font-weight: bold\;">Todas las actividades son g
 ratuitas.</strong><br />\n	Donativos:<strong style="font-weight: bold\;"><
 span style="color: rgb(0\, 0\, 255)\;">&nbsp\;<a href="https://valencia.ae
 mbk.net/" style="color: rgb(35\, 132\, 232)\; text-decoration-line: none\; 
 font-weight: normal\;">https://valencia.aembk.net/</a></span></strong></p>
 \n<p style="margin: 0px 0px 10px\; font-family: Arial\; font-size: 15px\; 
 line-height: 20px\; color: rgb(51\, 51\, 51)\; background-color: rgb(246\, 
 247\, 240)\;">\n	<strong style="font-weight: bold\;">Lugar:&nbsp\;Plaza Or
 ganista Cabo\, 6-bjo. Iqda. Valencia</strong><br />\n	(Junto al jard&iacut
 e\;n de Aora)<br />\n	Metro: lineas 3 y 5. Parada Ayora<br />\n	Buses EMT: 
 31\, 32\, 81 y 92</p>\n<p style="margin: 0px 0px 10px\; font-family: Arial
 \; font-size: 15px\; line-height: 20px\; color: rgb(51\, 51\, 51)\; backgr
 ound-color: rgb(246\, 247\, 240)\;">\n	<strong style="font-weight: bold\;"
 >Brahma Kumaris Valencia</strong><span style="background-color: rgb(255\, 
 255\, 255)\;">\, 32\, 81 y 92</span></p>\n<p style="margin: 0px 0px 10px\; 
 font-family: Arial\; font-size: 15px\; line-height: 20px\; color: rgb(51\, 
 51\, 51)\; background-color: rgb(246\, 247\, 240)\;">\n	<br />\n	<strong s
 tyle="font-weight: bold\;"><span style="background-color:#ffffff\;">Brahma 
 Kumaris Valencia</span></strong></p>\n
DTSTART:20260521T183000
TZOFFSETFROM: 0000
TZOFFSETTO: 0000
TZNAME:Europe/Madrid
DURATION:PT0M
END:VEVENT
END:VCALENDAR
