BEGIN:VCALENDAR
VERSION:2.0
PRODID:Brahma Kumaris Event Management
METHOD:REQUEST
BEGIN:VEVENT
UID:ee80ffc3-462f-4a98-a112-0b9d66b3946b
DTSTAMP:20260423T230436Z
SUMMARY:CHARLA Y MEDITACIÓN PRESENCIAL
DESCRIPTION:<p>\n	&nbsp\;</p>\n<p style="margin: 0px 0px 10px\; font-family
 : Arial\; font-size: 15px\; line-height: 20px\; color: rgb(51\, 51\, 51)\; 
 background-color: rgb(246\, 247\, 240)\;">\n	<strong style="font-weight: b
 old\;">Se ruega llegar 10 minutos antes</strong>&nbsp\;para ayudar a crear
 <br />\n	una atm&oacute\;sfera de concentraci&oacute\;n y bienestar.</p>\n
 <p style="margin: 0px 0px 10px\; font-family: Arial\; font-size: 15px\; li
 ne-height: 20px\; color: rgb(51\, 51\, 51)\; background-color: rgb(246\, 2
 47\, 240)\;">\n	<strong style="font-weight: bold\;">Todas las actividades 
 son gratuitas.</strong><br />\n	Donativos:<strong style="font-weight: bold
 \;"><span style="color: rgb(0\, 0\, 255)\;">&nbsp\;<a href="https://valenc
 ia.aembk.net/" style="color: rgb(35\, 132\, 232)\; text-decoration-line: n
 one\; font-weight: normal\;">https://valencia.aembk.net/</a></span></stron
 g></p>\n<p style="margin: 0px 0px 10px\; font-family: Arial\; font-size: 1
 5px\; line-height: 20px\; color: rgb(51\, 51\, 51)\; background-color: rgb
 (246\, 247\, 240)\;">\n	<strong style="font-weight: bold\;">Lugar:&nbsp\;P
 laza Organista Cabo\, 6-bjo. Iqda. Valencia</strong><br />\n	(Junto al jar
 d&iacute\;n de Aora)<br />\n	Metro: lineas 3 y 5. Parada Ayora<br />\n	Bus
 es EMT: 31\, 32\, 81 y 92<br />\n	<strong style="font-weight: bold\;">Brah
 ma Kumaris Valencia</strong></p>\n
DTSTART:20260618T183000
TZOFFSETFROM: 0000
TZOFFSETTO: 0000
TZNAME:Europe/Madrid
DURATION:PT0M
END:VEVENT
END:VCALENDAR
