BEGIN:VCALENDAR
VERSION:2.0
PRODID:Brahma Kumaris Event Management
METHOD:REQUEST
BEGIN:VEVENT
UID:e1f95c95-0b02-487a-940f-afb1fe976b14
DTSTAMP:20260423T225546Z
SUMMARY:MEDITACIÓN MUNDIAL POR LA PAZ
DESCRIPTION:Con pensamientos positivos y elevados para crear entre todos un 
 mundo mejor.
DTSTART:20260621T183000
TZOFFSETFROM: 0000
TZOFFSETTO: 0000
TZNAME:Europe/Madrid
DURATION:PT0M
END:VEVENT
END:VCALENDAR
