BEGIN:VCALENDAR
VERSION:2.0
PRODID:Brahma Kumaris Event Management
METHOD:REQUEST
BEGIN:VEVENT
UID:061dd1f1-55f2-43f4-834d-4c00391e9a2b
DTSTAMP:20260423T225546Z
SUMMARY:CHARLA Y MEDITACIÓN PRESENCIAL
DESCRIPTION:<p>\n	<span _fck_bookmark="1" style="display: none\;">&nbsp\;</
 span><span _fck_bookmark="1" id="cke_bm_55S" style="display: none\;">&nbsp
 \;</span></p>\n<p>\n	&nbsp\;</p>\n<p>\n	<strong>Se ruega llegar 10 minutos 
 antes</strong><br />\n	para ayudar a crear una atm&oacute\;sfera<br />\n	d
 e concentraci&oacute\;n y bienestar.</p>\n<p>\n	<strong>Todas las activida
 des son gratuitas.</strong><br />\n	<strong>Donativos:</strong><span style
 ="color: rgb(0\, 0\, 255)\;">&nbsp\;</span><a href="https://valencia.aembk
 .net/">https://valencia.aembk.net/</a></p>\n<p>\n	<strong>Lugar:&nbsp\;Pla
 za Organista Cabo\, 6-bjo. Iqda. Valencia</strong><br />\n	(Junto al jard&
 iacute\;n de Aora)<br />\n	Metro: lineas 3 y 5. Parada Ayora<br />\n	Buses 
 EMT: 31\, 32\, 81 y 92<br />\n	<strong>Brahma Kumaris Valencia</strong></p
 >\n<div class="skype_c2c_menu_container" onmouseout="SkypeClick2Call.MenuI
 njectionHandler.hideMenu(event)" onmouseover="SkypeClick2Call.MenuInjectio
 nHandler.showMenu(this\, event)" style="display: none\;">\n	&nbsp\;</div>\
 n<div class="skype_c2c_menu_container" id="skype_c2c_menu_container" onmou
 seout="SkypeClick2Call.MenuInjectionHandler.hideMenu(event)" onmouseover="
 SkypeClick2Call.MenuInjectionHandler.showMenu(this\, event)" style="displa
 y: none\;">\n	<p>\n		<a class="skype_c2c_menu_click2call_action" id="skype
 _c2c_menu_click2call_action">Call</a></p>\n	<p>\n		<a class="skype_c2c_men
 u_click2sms_action" id="skype_c2c_menu_click2sms_action">Send SMS</a></p>\
 n	<p>\n		<a class="skype_c2c_menu_add2skype_text" id="skype_c2c_menu_add2s
 kype_text">Add to Skype</a></p>\n	<p>\n		<span class="skype_c2c_menu_toll_
 callcredit">You&#39\;ll need Skype Credit</span><span class="skype_c2c_men
 u_toll_free">Free via Skype</span></p>\n</div>\n<p>\n	<span _fck_bookmark=
 "1" id="cke_bm_55E" style="display: none\;">&nbsp\;</span><span _fck_bookm
 ark="1" style="display: none\;">&nbsp\;</span></p>\n
DTSTART:20260625T183000
TZOFFSETFROM: 0000
TZOFFSETTO: 0000
TZNAME:Europe/Madrid
DURATION:PT0M
END:VEVENT
END:VCALENDAR
