BEGIN:VCALENDAR
VERSION:2.0
PRODID:Brahma Kumaris Event Management
METHOD:REQUEST
BEGIN:VEVENT
UID:918c7831-7bc2-4717-9f85-815218127b66
DTSTAMP:20260421T164002Z
SUMMARY:Retiro Residencial (Pedreña - CANTABRIA)
DESCRIPTION:"La calma interior"
DTSTART:20260509T093000
TZOFFSETFROM: 0000
TZOFFSETTO: 0000
TZNAME:Europe/Madrid
DURATION:PT-86400000M
END:VEVENT
END:VCALENDAR
