BEGIN:VCALENDAR
VERSION:2.0
PRODID:Brahma Kumaris Event Management
METHOD:REQUEST
BEGIN:VEVENT
UID:47f3baf1-83be-46b9-a0dc-83623f366a81
DTSTAMP:20260425T223908Z
SUMMARY:Pràctica de la Meditació Raja Ioga (LLEIDA)
DESCRIPTION:"Pràctica de la Meditació Raja Ioga"
DTSTART:20260504T190000
TZOFFSETFROM: 0000
TZOFFSETTO: 0000
TZNAME:Europe/Madrid
DURATION:PT0M
END:VEVENT
END:VCALENDAR
