BEGIN:VCALENDAR
VERSION:2.0
PRODID:Brahma Kumaris Event Management
METHOD:REQUEST
BEGIN:VEVENT
UID:9ec29c5d-d164-4c27-972f-22472185b7f1
DTSTAMP:20260425T223441Z
SUMMARY:Pràctica de la Meditació Raja Ioga (LLEIDA)
DESCRIPTION:"Pràctica de la Meditació Raja Ioga"
DTSTART:20260518T190000
TZOFFSETFROM: 0000
TZOFFSETTO: 0000
TZNAME:Europe/Madrid
DURATION:PT0M
END:VEVENT
END:VCALENDAR
