BEGIN:VCALENDAR
VERSION:2.0
PRODID:Brahma Kumaris Event Management
METHOD:REQUEST
BEGIN:VEVENT
UID:bd0d9163-558e-4b48-bf48-ba08f99933ba
DTSTAMP:20260425T224013Z
SUMMARY:Pràctica de la Meditació Raja Ioga (LLEIDA)
DESCRIPTION:"Pràctica de la Meditació Raja Ioga"
DTSTART:20260525T190000
TZOFFSETFROM: 0000
TZOFFSETTO: 0000
TZNAME:Europe/Madrid
DURATION:PT0M
END:VEVENT
END:VCALENDAR
